BEGIN:VCALENDAR
VERSION:2.0
PRODID:-//ČAVS - Česká asociace veterinárních sester - ECPv4.9.14//NONSGML v1.0//EN
CALSCALE:GREGORIAN
METHOD:PUBLISH
X-WR-CALNAME:ČAVS - Česká asociace veterinárních sester
X-ORIGINAL-URL:https://www.cavs.info
X-WR-CALDESC:Events for ČAVS - Česká asociace veterinárních sester
BEGIN:VTIMEZONE
TZID:Europe/Prague
BEGIN:DAYLIGHT
TZOFFSETFROM:+0100
TZOFFSETTO:+0200
TZNAME:CEST
DTSTART:20160327T010000
END:DAYLIGHT
BEGIN:STANDARD
TZOFFSETFROM:+0200
TZOFFSETTO:+0100
TZNAME:CET
DTSTART:20161030T010000
END:STANDARD
END:VTIMEZONE
BEGIN:VEVENT
DTSTART;TZID=Europe/Prague:20160917T090000
DTEND;TZID=Europe/Prague:20160917T170000
DTSTAMP:20260424T215327
CREATED:20191114T162900Z
LAST-MODIFIED:20191204T162430Z
UID:95-1474102800-1474131600@www.cavs.info
SUMMARY:Anesteziologie a Urgentní medicína
DESCRIPTION:Praktický seminář na téma Anestezie a Urgentní medicína tentokrát konaná ve spolupráci ČAVS a AVA / tedy Asociace veterinárních anesteziologů /. \nMísto konání:  17/09/2016 Thakurova 1\, Praha 6\,www.masarykovakolej.cz \nDr. Joost Uilenreef\, který je ECVAA diplomantem a též členem odborného gremia EVECCS / European Veterinary Emergency and Critical Care Society / je již v České republice znám a ti kteří měli již možnost na jeho akcích být potvrdí že je  zastánce velmi praktického přístupu a ukázek než suché teorie . \nPro náš semínář se stal garantem při výběru přednášejících. Hvězdnou sestavu kterou nám připravil asi již v budoucnosti těžko překonáme. \nPřednášet nám totiž budou budou : \nElizabeth Leece  BVSc CertVA DipECVAA MRCVS \nHeide Kloppel  MRCVS DR. med vet. Cert VA \nCíl semináře: \n\nZískat nejnovější poznatky jak minimalizovat anestetická rizika v praxi malých zvířat\nNaučit se či zdokonalit v provádění monitoringu tak aby zajistil větší bezpečnosti pacientů a klidnější práci ošetřujícího personálu.\nVysvětlit a porozumět co jednotlivé monitorované parametry znamenají\, o čem vypovídají \, na co si dávat pozor a jak dané situace řešit.\nDíky špičkovým přednášejícím budem procházet konkretní situace a krizové scénáře s nejlepšími z nejlepších\nPéče astabilizace urgentních  pacientů před anestesií\nPraktický nácvik správného a efektivního provádění CPR\n\nSeminář v anglickém jazyce bude simultálně překládán do českého jazyka \nProgram semináře \n9.30 – 10.10:      Základní pravidla anestesie – jak začít rovnou správně! \n10.10 – 10.50:   Co nám říká EKG a před čím nás může varovat? \n11.20 – 12.10:    Přestávla na kávu/ čaj spojená s názornou prezentací anestetických sestav \n10.50 – 11.20:    Proč monitorovat krevní tlak? \n12.10 – 13.00:    Pulsní  oxymetrie nebo kapnografie: monitoring ventilace \n13.00 – 14.00:    Přestávka na oběd \n14.00 – 15.00:    Když vývoj jde špatným směrem….. reagování na monitoring \n15.00 – 15.30:    Přestávka na kávu \n15.30 – 17.00:    Stanovení priorit v ošetření urgentního pacienta \n16.15 – 17.00:    Když vývoj jde špatným směrem….CPR \nCena pro nečleny ČAVS 2000Kč \, s plným členství  členové ČAVS / členství AdDVANCE / s využitím slevového kuponu vemna pouhých 500Kč\,  s přidruženým členstvím BASIC a slevovým kuponem pak 1000Kč. Po  31/8 jednotná cena pro členy ČAVS 1200Kč. \n  \nElizabeth + Heidy \n
URL:https://www.cavs.info/udalost/anesteziologie-a-urgentni-medicina/
END:VEVENT
END:VCALENDAR