BEGIN:VCALENDAR
VERSION:2.0
PRODID:-//ČAVS - Česká asociace veterinárních sester - ECPv4.9.14//NONSGML v1.0//EN
CALSCALE:GREGORIAN
METHOD:PUBLISH
X-WR-CALNAME:ČAVS - Česká asociace veterinárních sester
X-ORIGINAL-URL:https://www.cavs.info
X-WR-CALDESC:Events for ČAVS - Česká asociace veterinárních sester
BEGIN:VTIMEZONE
TZID:Europe/Prague
BEGIN:DAYLIGHT
TZOFFSETFROM:+0100
TZOFFSETTO:+0200
TZNAME:CEST
DTSTART:20220327T010000
END:DAYLIGHT
BEGIN:STANDARD
TZOFFSETFROM:+0200
TZOFFSETTO:+0100
TZNAME:CET
DTSTART:20221030T010000
END:STANDARD
END:VTIMEZONE
BEGIN:VEVENT
DTSTART;TZID=Europe/Prague:20220409T090000
DTEND;TZID=Europe/Prague:20220409T170000
DTSTAMP:20260424T214940
CREATED:20220207T141104Z
LAST-MODIFIED:20220225T172248Z
UID:3249-1649494800-1649523600@www.cavs.info
SUMMARY:Behaviorální medicína - workshop II
DESCRIPTION: \nPOZOR ZMĚNA TERMÍNU DRUHÉHO WEBINÁŘE \nDovolujeme si upozornit i již registrované účastníky\, že došlo k posunutí data druhého workshopu\, a to z 16. dubna na 9. dubna.\nV případě\, že by vám nový termín nevyhovoval\, obraťte se prosím na sekretariát\, vyřešíme s vámi případnou vratku. \nBehaviorální medicína je jedna z nejmladších odvětví medicíny \nNa workshopech budete mít prostor přinést a prodiskutovat vlastní zkušenosti či případy z praxe. Jednotlivé workshopy jsou plánovány na soboty 19.3.\, 9.4. a 30.4. \nCílem semináře a workshopů není rekvalifikace na kočičího či psího „psychologa“ nebo behavioristu. Cílem je vzdělat veterinární lékaře a sestry\, aby si lépe věděli rady v rámci svého oboru a svých kompetencí. Jen tak se můžeme – společně – postarat o naše pacienty po všech směrech. \nWorkshopy vede Bc. Kateřina Štiblická MSc.\, které se živí řešením problémového chování koček. Spolupracuje s veterináři\, věnuje se přednáškové činnosti a publikuje články i vyjádření v médiích. Mentoruje studenty i profesionály z oboru. Je první českou absolventkou magisterského oboru Klinické chování zvířat na univerzitě v Lincolnu\, který má jako jediný ve Spojeném Království akreditaci od ASAB. Učila se přímo od Daniela Millse\, předního evropského odborníka a autora mnoha vědeckých a odborných publikací (BSAVA a další). \n  \nTéma II. workshopu – Vliv stáří na chování koček\, demence a truchlení koček \nMísto konání: VETINO Jaggy Praha \nCeny workshopu\nČLEN:\n800\,- Kč / 1 workshop\n1800 Kč / celý cyklus tří workshopů\nNEČLEN:\n1300\,- Kč / 1 workshop\n3300\,- Kč / celý cyklus tří workshopů \nSeminář se bude řídit aktuálními opatřeními proti COVID-19. \nRegistrační odkaz ZDE \nPodrobné podmínky registrace a storno podmínky najdete ZDE \nSponzorem akce je Royal Canin\, děkujeme! \n
URL:https://www.cavs.info/udalost/behavioralni-medicina-workshop-ii/
END:VEVENT
END:VCALENDAR