BEGIN:VCALENDAR
VERSION:2.0
PRODID:-//ČAVS - Česká asociace veterinárních sester - ECPv4.9.14//NONSGML v1.0//EN
CALSCALE:GREGORIAN
METHOD:PUBLISH
X-WR-CALNAME:ČAVS - Česká asociace veterinárních sester
X-ORIGINAL-URL:https://www.cavs.info
X-WR-CALDESC:Events for ČAVS - Česká asociace veterinárních sester
BEGIN:VTIMEZONE
TZID:Europe/Prague
BEGIN:DAYLIGHT
TZOFFSETFROM:+0100
TZOFFSETTO:+0200
TZNAME:CEST
DTSTART:20160327T010000
END:DAYLIGHT
BEGIN:STANDARD
TZOFFSETFROM:+0200
TZOFFSETTO:+0100
TZNAME:CET
DTSTART:20161030T010000
END:STANDARD
END:VTIMEZONE
BEGIN:VEVENT
DTSTART;VALUE=DATE:20160201
DTEND;VALUE=DATE:20170101
DTSTAMP:20260424T215256
CREATED:20191114T162854Z
LAST-MODIFIED:20191114T162854Z
UID:75-1454284800-1483142400@www.cavs.info
SUMMARY:plné členství ČAVS pro rok 2016  -ADVANCE
DESCRIPTION:\n	Plné členství ČAVS pro rok 2016  ADVANCE je již k dispozici. Při objednávce členství postupujte stejně jako u objednávjky jednotlivých akcí tedy vyplňte kdo a jakým způsobem bude platit. Po té co platba bude provedena dojde teprve k zaktivnění Vašeho členství. Aby jste zamezily omezení přístupu na stránky v záložce vzdělávání\, prosím zajistěte připsání Vaší platby do konce unora 2016.  Členství pro rok 2016 Vám pak umožňuje veškeré členské výhody až do konce ledna 2017\,  \n\n	Pokud Vám po registraci nepřijde do 48hod email s potvrzením\, zkontrolujte prosím své spamy. \n[] \n
URL:https://www.cavs.info/udalost/plne-clenstvi-cavs-pro-rok-2016-advance/
END:VEVENT
END:VCALENDAR