BEGIN:VCALENDAR
VERSION:2.0
PRODID:-//ČAVS - Česká asociace veterinárních sester - ECPv4.9.14//NONSGML v1.0//EN
CALSCALE:GREGORIAN
METHOD:PUBLISH
X-WR-CALNAME:ČAVS - Česká asociace veterinárních sester
X-ORIGINAL-URL:https://www.cavs.info
X-WR-CALDESC:Events for ČAVS - Česká asociace veterinárních sester
BEGIN:VTIMEZONE
TZID:Europe/Prague
BEGIN:DAYLIGHT
TZOFFSETFROM:+0100
TZOFFSETTO:+0200
TZNAME:CEST
DTSTART:20160327T010000
END:DAYLIGHT
BEGIN:STANDARD
TZOFFSETFROM:+0200
TZOFFSETTO:+0100
TZNAME:CET
DTSTART:20161030T010000
END:STANDARD
END:VTIMEZONE
BEGIN:VEVENT
DTSTART;VALUE=DATE:20160229
DTEND;VALUE=DATE:20170101
DTSTAMP:20260424T225607
CREATED:20191114T162854Z
LAST-MODIFIED:20191114T162854Z
UID:73-1456704000-1483142400@www.cavs.info
SUMMARY:Upgrade členství BASiC na ADVANCE
DESCRIPTION:\n	Na základě četných požadavků na možnost převedení členství BASIC na ADVANCE je tu akce kdy z doplatkem rozdílu tedy 1100Kč převedete svoje stávající členství BASIC na plné členství ADVANCE \n[] \n
URL:https://www.cavs.info/udalost/upgrade-clenstvi-basic-na-advance/
END:VEVENT
END:VCALENDAR