BEGIN:VCALENDAR
VERSION:2.0
PRODID:-//ČAVS - Česká asociace veterinárních sester - ECPv4.9.14//NONSGML v1.0//EN
CALSCALE:GREGORIAN
METHOD:PUBLISH
X-WR-CALNAME:ČAVS - Česká asociace veterinárních sester
X-ORIGINAL-URL:https://www.cavs.info
X-WR-CALDESC:Events for ČAVS - Česká asociace veterinárních sester
BEGIN:VTIMEZONE
TZID:Europe/Prague
BEGIN:DAYLIGHT
TZOFFSETFROM:+0100
TZOFFSETTO:+0200
TZNAME:CEST
DTSTART:20260329T010000
END:DAYLIGHT
BEGIN:STANDARD
TZOFFSETFROM:+0200
TZOFFSETTO:+0100
TZNAME:CET
DTSTART:20261025T010000
END:STANDARD
END:VTIMEZONE
BEGIN:VEVENT
DTSTART;VALUE=DATE:20260131
DTEND;VALUE=DATE:20260201
DTSTAMP:20260424T214756
CREATED:20251126T194101Z
LAST-MODIFIED:20260115T112916Z
UID:3607-1769817600-1769903999@www.cavs.info
SUMMARY:DIY VET TOOLS
DESCRIPTION:\nTrochu netradiční workshop „Udělej si sám!“. ✂️ Tvoříte rádi? Přijďte na workshop\, ze kterého si odnesete třeba nohu…! \nNa tomto setkání si společně vyrobíme makety a pomůcky na učení různých\, pro sestřičky důležitých\, úkonů! 💉 Z dostupných věcí\, tak trochu low cost\, protože jsme šikovné a profesionálních maket netřeba. 💪 \n\nTermín setkání: 31.1.2026\nMísto setkání: Ateliér de Bosco\, Žitná 570/26\, 120 00 Praha – Nové Město\nZačátek akce: 14.00\nPředpokládaný konec: 18 : 00\nPočet účastníků: 15\n\nDrobné občerstvení\, káva\, čaj zajištěno. Pokud budete chtít můžeme se sejít nedaleko ateliéru na oběd a popovídat si o životě na veterinárních klinikách. 🙂 \n\n\nOdnesete si úsměv na tváři\, to\, co si vyrobíte\, případně nějaký materiál na dotvoření doma 🙂 \nPŘIHLÁŠENÍ ZDE! \n\n
URL:https://www.cavs.info/udalost/vet_tools/
LOCATION:Klinika Jaggy Praha
END:VEVENT
END:VCALENDAR