BEGIN:VCALENDAR
VERSION:2.0
PRODID:-//ČAVS - Česká asociace veterinárních sester - ECPv4.9.14//NONSGML v1.0//EN
CALSCALE:GREGORIAN
METHOD:PUBLISH
X-WR-CALNAME:ČAVS - Česká asociace veterinárních sester
X-ORIGINAL-URL:https://www.cavs.info
X-WR-CALDESC:Events for ČAVS - Česká asociace veterinárních sester
BEGIN:VTIMEZONE
TZID:Europe/Prague
BEGIN:DAYLIGHT
TZOFFSETFROM:+0100
TZOFFSETTO:+0200
TZNAME:CEST
DTSTART:20170326T010000
END:DAYLIGHT
BEGIN:STANDARD
TZOFFSETFROM:+0200
TZOFFSETTO:+0100
TZNAME:CET
DTSTART:20171029T010000
END:STANDARD
END:VTIMEZONE
BEGIN:VEVENT
DTSTART;TZID=Europe/Prague:20170111T000000
DTEND;TZID=Europe/Prague:20170111T235959
DTSTAMP:20260425T020117
CREATED:20191114T162854Z
LAST-MODIFIED:20191114T223421Z
UID:76-1484092800-1484179199@www.cavs.info
SUMMARY:Webinář - anestesie
DESCRIPTION:\n\n\n\n	"Na co si dát pozor při anestezii kardiaků a pacientů s onemocněním plic" \n\n	  \n\n	Přihlášení na webinář probíhá přes www.vetkom.cz \n\n	  \n\n	Podrobný návod pro přihlášení níže \n\n	⇒  www.vetkom.cz  \n\n	⇒ kalendář akcí \n\n	 ⇒ zvolit si webinář a kliknout na odkaz www.penezenka.wetkom.cz  \n\n	⇒ zakliknout vytvořit nový účet v peněžence  \n\n	⇒ založit účet jako nečlen KVL ČR \n\n	 ⇒ vytvoříte si vlastní nový účet \n\n	⇒ přihlásit se do systému \n\n	⇒ zaplatit webinář dle platebních údajů \n\n	⇒  koupit předplatné webinářů \n\n	⇒ zvolit vybraný webinář a potvrdit jeho zaplacení \n\n	  \n\n[]\n\n\n\n\n\n\n\n\n\n
URL:https://www.cavs.info/udalost/webinar-anestesie/
END:VEVENT
END:VCALENDAR