BEGIN:VCALENDAR
VERSION:2.0
PRODID:-//ČAVS - Česká asociace veterinárních sester - ECPv4.9.14//NONSGML v1.0//EN
CALSCALE:GREGORIAN
METHOD:PUBLISH
X-WR-CALNAME:ČAVS - Česká asociace veterinárních sester
X-ORIGINAL-URL:https://www.cavs.info
X-WR-CALDESC:Events for ČAVS - Česká asociace veterinárních sester
BEGIN:VTIMEZONE
TZID:Europe/Prague
BEGIN:DAYLIGHT
TZOFFSETFROM:+0100
TZOFFSETTO:+0200
TZNAME:CEST
DTSTART:20240331T010000
END:DAYLIGHT
BEGIN:STANDARD
TZOFFSETFROM:+0200
TZOFFSETTO:+0100
TZNAME:CET
DTSTART:20241027T010000
END:STANDARD
END:VTIMEZONE
BEGIN:VEVENT
DTSTART;VALUE=DATE:20241130
DTEND;VALUE=DATE:20241201
DTSTAMP:20260424T215424
CREATED:20240731T192707Z
LAST-MODIFIED:20241106T111716Z
UID:3517-1732924800-1733011199@www.cavs.info
SUMMARY:WS 2024 Veterinární sestra III.
DESCRIPTION: \nTřetí ze série workshopů „Jak se stát úspěšnou veterinární sestřičkou„. \nWorkshop určený pokročilé pro sestry\, které jsou již nějakou dobu v praxi. \n  \nShrnutí témat pro WS Veterinární sestra III. \nTeoretická část:\n– výpočty dávek léků\n– zazvoní telefon – jak získat efektivně potřebné informace\n–  péče o hospitalizované pacienty III\n– zobrazovací metody rozdíl RTG vs. USG\n– interpretace vyšetření krve \n  \nPraktická část:\n1. základy USG vyšetření pro vet. asistenty\n2. samostudium\n3. výpočty dávek léků\n4. krevní nátěr a mikrohematokrit \nRegistrace bude otevřena brzy \nKapacita akce je 20 lidí\, při naplnění kapacity akce mají přednost členové ČAVS. \nVhodné i pro studenty. \nCeny pro členy:\n1 workshop = 1300\,- Kč\n2 x workshop = 2200\,-Kč\nBalíček 3 x WS pro členy: 3000\,-Kč \nCeny pro nečleny:\n1 workshop = 1800\,- Kč\nBalíček 3 x WS pro členy: 4700\,-Kč \nMísto konání: Veterinární klinika VETINO Jaggy\, Reinerova 1712/9\, Praha. \nPřednášející: VET NURSE ACADEMY (MVDr. Kaufmanová a Gabriela Nováková) \nRegistrace ZDE. \nTémata workshopů navazují. Nezapomeňte se tedy podívat na další pracovní seminář a jeho obsah! \n  \nSPONZOŘI AKCE: \nHILL’S PET NUTRITION \nVETINO JAGGY PRAHA \n  \n  \nNení Vám něco jasné? Napište nám na e-mail cavsczech@gmail.com \n
URL:https://www.cavs.info/udalost/ws-veterinarni-sestra-2023-iii-copy/
LOCATION:Klinika Jaggy Praha
END:VEVENT
END:VCALENDAR