BEGIN:VCALENDAR
VERSION:2.0
PRODID:-//ČAVS - Česká asociace veterinárních sester - ECPv4.9.14//NONSGML v1.0//EN
CALSCALE:GREGORIAN
METHOD:PUBLISH
X-WR-CALNAME:ČAVS - Česká asociace veterinárních sester
X-ORIGINAL-URL:https://www.cavs.info
X-WR-CALDESC:Events for ČAVS - Česká asociace veterinárních sester
BEGIN:VTIMEZONE
TZID:Europe/Prague
BEGIN:DAYLIGHT
TZOFFSETFROM:+0100
TZOFFSETTO:+0200
TZNAME:CEST
DTSTART:20210328T010000
END:DAYLIGHT
BEGIN:STANDARD
TZOFFSETFROM:+0200
TZOFFSETTO:+0100
TZNAME:CET
DTSTART:20211031T010000
END:STANDARD
END:VTIMEZONE
BEGIN:VEVENT
DTSTART;VALUE=DATE:20211113
DTEND;VALUE=DATE:20211114
DTSTAMP:20260424T215123
CREATED:20210809T083249Z
LAST-MODIFIED:20210914T112735Z
UID:3080-1636761600-1636847999@www.cavs.info
SUMMARY:WS Veterinární sestra III. - plně obsazeno
DESCRIPTION: \nWorkshop je již plně obsazen. \nWorkshopy budeme pro velký zájem opakovat i v příštím roce. Zájemci\, kteří se nestihli registrovat\, mohou kontaktovat sekretariát na emailové adrese cavlmz@cavlmz.cz a při příštím konání budou prioritně osloveni. \nTřetí ze série workshopů „Jak se stát úspěšnou veterinární sestřičkou„. \nWorkshop určený pokročilé pro sestry\, které jsou již nějakou dobu v praxi. \nV tomto bloku rozšíříme znalosti o pokročilejší vyšetření pacienta v rámci urgentních stavů a mnoho dalších poznatků. \nShrnutí témat pro WS Veterinární sestra III. \n\nakutní sonografie\npéče o hospitalizované pacienty 3\nzobrazovací metody\nvyšetření krve\nvýpočty dávek\nsálová sestra 2\nzákladní vyšetření/ošetření\ntoaleta ran\n\nRegistrace uzavřena\n \nKapacita akce je 20 lidí\, při naplnění kapacity akce mají přednost členové ČAVS. \nVhodné i pro studenty. \nCena WS:\nČlen ČAVS 1200\,-Kč\nNEčlen 1700\,- Kč\nBalíček 2 x WS pro členy ČAVS 2100\,-Kč\nBalíček 3 x WS pro členy ČAVS 2900\,-Kč \nMísto konání: Veterinární klinika VETINO Jaggy\, Reinerova 1712/9\, Praha. \nPřednášející: MVDr. Kaufmanová a Gabriela Nováková \nTémata workshopů navazují. Nezapomeňte se tedy podívat na další pracovní seminář a jeho obsah! \n  \nSPONZOŘI AKCE: \nHILL’S PET NUTRITION \nVETINO JAGGY PRAHA \n  \n  \nNení Vám něco jasné? Napište nám na e-mail cavsczech@gmail.com \n
URL:https://www.cavs.info/udalost/ws-veterinarni-sestra-iii/
LOCATION:Klinika Jaggy Praha
ATTACH;FMTTYPE=image/png:https://www.cavs.info/content/uploads/kopie-navrhu-starnouci-pacient-1.png
END:VEVENT
END:VCALENDAR