BEGIN:VCALENDAR
VERSION:2.0
PRODID:-//ČAVS - Česká asociace veterinárních sester - ECPv4.9.14//NONSGML v1.0//EN
CALSCALE:GREGORIAN
METHOD:PUBLISH
X-WR-CALNAME:ČAVS - Česká asociace veterinárních sester
X-ORIGINAL-URL:https://www.cavs.info
X-WR-CALDESC:Events for ČAVS - Česká asociace veterinárních sester
BEGIN:VTIMEZONE
TZID:Europe/Prague
BEGIN:DAYLIGHT
TZOFFSETFROM:+0100
TZOFFSETTO:+0200
TZNAME:CEST
DTSTART:20260329T010000
END:DAYLIGHT
BEGIN:STANDARD
TZOFFSETFROM:+0200
TZOFFSETTO:+0100
TZNAME:CET
DTSTART:20261025T010000
END:STANDARD
END:VTIMEZONE
BEGIN:VEVENT
DTSTART;VALUE=DATE:20260214
DTEND;VALUE=DATE:20260215
DTSTAMP:20260424T214922
CREATED:20251126T194012Z
LAST-MODIFIED:20260116T171501Z
UID:3605-1771027200-1771113599@www.cavs.info
SUMMARY:2026 Veterinární sestra I.
DESCRIPTION: \nPrvní ze série workshopů „Jak se stát úspěšnou veterinární sestřičkou„. \nWorkshop určený pro začínající sestry\, které si chtějí osvojit základní dovednosti a zorientovat se lépe v probírané problematice. Zkrátka samozřejmě nepřijdou ani ti\, kteří jsou již nějakou dobu v praxi. \nShrnutí témat pro WS Veterinární sestra I. \nTeoretická část:\n– aplikace léčiv\n– manipulace a fixace zvířat\n– infuze\n– příprava kanylace\, péče o kanyly\n– odběr krve\n– fyziologické hodnoty a trias hodnoty\n– péče o hospitalizované pacienty I \nPraktická část: \n\nsestavení infuze\nukázka přístrojů a nastavení do infuzorů\npéče o kanylu\nsamostudium\n\n\nKapacita akce je 20 lidí\, při naplnění kapacity akce mají přednost členové ČAVS. \nCeny pro členy:\n1 workshop = 1500\,- Kč\nBalíček 3 x WS pro členy: 3900\,-Kč \nCeny pro nečleny:\n1 workshop = 2000\,- Kč\nBalíček 3 x WS pro NEčleny: 5600\,-Kč \nRegistrace ZDE. \nMísto konání: Veterinární klinika VETINO Jaggy\, Reinerova 1712/9\, Praha. \nPřednášející: VET NURSE ACADEMY (MVDr. Kaufmanová a Gabriela Nováková) \nTémata workshopů budou navazovat. Nezapomeňte se tedy podívat na navazující termíny pracovních seminářů a jejich obsah! \nSPONZOŘI AKCE: \nHILL’S PET NUTRITION \nVETINO JAGGY PRAHA \nCOVETRUS \nNení Vám něco jasné? Napište nám na e-mail cavsczech@gmail.com \n
URL:https://www.cavs.info/udalost/ws-vs-1-2026/
LOCATION:Klinika Jaggy Praha
END:VEVENT
END:VCALENDAR